Workbook

Sheet HK1
A1: ỦY BAN NHÂN DÂN | K1: CỘNG HÒA XÃ HỘI CHỦ NGHĨA VIỆT NAM
A2: TRƯỜNG CAO ĐẲNG LÝ TỰ TRỌNG | K2: Độc lập - Tự do - Hạnh phúc
A3: THÀNH PHỐ HỒ CHÍ MINH
K4: TP. Hồ Chí Minh, ngày 26 tháng 3 năm 2019
A5: BẢN BÁO CÁO KẾT QUẢ KIỂM TRA TOÀN DIỆN GIÁO VIÊN
A7: HỌC KỲ : I - NĂM HỌC: 2018 - 2019
A8: KHOA HỌC CƠ BẢN
A9: TT | B9: HỌ VÀ TÊN | D9: DỰ GIỜ | G9: ĐIỂM MỤC II | J9: ĐIỂM MỤC III | M9: Điểm kiêm nhiệm (không kiêm nhiệm thì không tính) | N9: TỔNG CỘNG | O9: XẾP LOẠI TOÀN DIỆN | P9: GHI CHÚ
D10: Điểm trung bình (theo phiếu dự giờ) | E10: Điểm bảo lưu năm học theo qui định (nếu có) | F10: Xếp loại dự giờ | G10: a | H10: b | I10: c | J10: a | K10: b | L10: c
A11: GIÁO VIÊN CƠ HỮU
A12: 1 | B12: Lê Văn | C12: Bình | D12: 17.5 | F12: Tốt | G12: 8 | H12: 0 | I12: 1 | J12: 6 | K12: 2 | L12: 2 | M12: 2 | N12: =SUM(D12:E12,G12:M12) -> 38.5 | O12: Khá
A13: 2 | B13: Ngô Thanh | C13: Điền | D13: 18.25 | F13: Tốt | G13: 8 | H13: 0 | I13: 4 | J13: 6 | K13: 2 | L13: 2 | M13: 2 | N13: =SUM(D13:E13,G13:M13) -> 42.25 | O13: Tốt
A14: 3 | B14: Nguyễn Văn | C14: Đông | D14: 17.75 | F14: Tốt | G14: 8 | H14: 0 | I14: 0 | J14: 6 | K14: 2 | L14: 2 | M14: 2 | N14: =SUM(D14:E14,G14:M14) -> 37.75 | O14: Khá
A15: 4 | B15: Nguyễn Phương | C15: Hà | D15: 18.5 | F15: Tốt | G15: 8 | H15: 0 | I15: 1 | J15: 6 | K15: 2 | L15: 2 | M15: 2 | N15: =SUM(D15:E15,G15:M15) -> 39.5 | O15: Khá
A16: 5 | B16: Phạm Thị Thu | C16: Hiền | D16: 18.25 | F16: Tốt | G16: 8 | H16: 0 | I16: 5 | J16: 6 | K16: 2 | L16: 2 | M16: 2 | N16: =SUM(D16:E16,G16:M16) -> 43.25 | O16: Tốt
A17: 6 | B17: Lê Thái | C17: Hùng | D17: 18 | F17: Tốt | G17: 8 | H17: 0 | I17: 4 | J17: 6 | K17: 2 | L17: 2 | M17: 2 | N17: =SUM(D17:E17,G17:M17) -> 42 | O17: Tốt
A18: 7 | B18: Võ Thị Hồng | C18: Lan | D18: 18.17 | F18: Tốt | G18: 8 | H18: 0 | I18: 4 | J18: 6 | K18: 1 | L18: 2 | M18: 2 | N18: =SUM(D18:E18,G18:M18) -> 41.17 | O18: Tốt
A19: 8 | B19: Phạm Thị Thu | C19: Nga | D19: 17.83 | F19: Tốt | G19: 8 | H19: 0 | I19: 0 | J19: 6 | K19: 2 | L19: 2 | M19: 2 | N19: =SUM(D19:E19,G19:M19) -> 37.83 | O19: Khá
A20: 9 | B20: Nguyễn Phú | C20: Tân | D20: 17.75 | F20: Tốt | G20: 8 | H20: 0 | I20: 5 | J20: 6 | K20: 2 | L20: 2 | N20: =SUM(D20:E20,G20:M20) -> 40.75 | O20: Tốt
A21: 10 | B21: Nguyễn Thị Cẩm | C21: Thạch | D21: 16.83 | F21: Khá | G21: 8 | H21: 0 | I21: 0 | J21: 6 | K21: 2 | L21: 2 | M21: 2 | N21: =SUM(D21:E21,G21:M21) -> 36.83 | O21: Khá
A22: 11 | B22: Vương Thanh | C22: Thuỷ | D22: 19.08 | F22: Tốt | G22: 8 | H22: 0 | I22: 5 | J22: 6 | K22: 2 | L22: 2 | M22: 2 | N22: =SUM(D22:E22,G22:M22) -> 44.08 | O22: Tốt
A23: 12 | B23: Nguyễn Thị | C23: Thủy | E23: 17.67 | F23: Tốt | G23: 8 | H23: 0 | I23: 4 | J23: 6 | K23: 2 | L23: 2 | M23: 2 | N23: =SUM(D23:E23,G23:M23) -> 41.67 | O23: Tốt
A24: 13 | B24: Trần Thanh | C24: Trúc | D24: 19 | F24: Tốt | G24: 8 | H24: 0 | I24: 3 | J24: 6 | K24: 2 | L24: 2 | M24: 2 | N24: =SUM(D24:E24,G24:M24) -> 42 | O24: Tốt
A25: 14 | B25: Đặng Thị Kiến | C25: Trúc | D25: 18.45 | F25: Tốt | G25: 8 | H25: 0 | I25: 1 | J25: 6 | K25: 2 | L25: 2 | M25: 2 | N25: =SUM(D25:E25,G25:M25) -> 39.45 | O25: Khá
A26: 15 | B26: Nguyễn Thanh | C26: Tú | D26: 17.5 | F26: Tốt | G26: 8 | H26: 0 | I26: 1 | J26: 6 | K26: 2 | L26: 2 | M26: 2 | N26: =SUM(D26:E26,G26:M26) -> 38.5 | O26: Khá
A27: GIÁO VIÊN THỈNH GIẢNG
A28: 1 | B28: Nguyễn Ngọc | C28: Chương | D28: 16.67 | F28: Khá | G28: 8 | H28: 0 | I28: 5 | J28: 6 | K28: 2 | L28: 2 | N28: =SUM(D28:E28,G28:M28) -> 39.67 | O28: Khá
A29: 2 | B29: Nguyễn Phú | C29: Cường | D29: 16 | F29: Khá | G29: 8 | H29: 0 | I29: 5 | J29: 6 | K29: 2 | L29: 2 | N29: =SUM(D29:E29,G29:M29) -> 39 | O29: Khá
A30: 3 | B30: Nguyễn Công | C30: Cường | D30: 16.5 | F30: Khá | G30: 8 | H30: 0 | I30: 4 | J30: 6 | K30: 2 | L30: 2 | N30: =SUM(D30:E30,G30:M30) -> 38.5 | O30: Khá
A31: 4 | B31: Võ Văn | C31: Đức | D31: 16.75 | F31: Khá | G31: 8 | H31: 0 | I31: 4 | J31: 6 | K31: 2 | L31: 2 | N31: =SUM(D31:E31,G31:M31) -> 38.75 | O31: Khá
A32: 5 | B32: Bạch Văn | C32: Gân | D32: 16.75 | F32: Khá | G32: 8 | H32: 0 | I32: 3 | J32: 6 | K32: 2 | L32: 2 | N32: =SUM(D32:E32,G32:M32) -> 37.75 | O32: Khá
A33: 6 | B33: Mai Võ Hoàng | C33: Giang | D33: 16 | F33: Khá | G33: 8 | H33: 0 | I33: 0 | J33: 5 | K33: 2 | L33: 2 | N33: =SUM(D33:E33,G33:M33) -> 33 | O33: Khá
A34: 7 | B34: Nguyễn Quỳnh | C34: Giao | D34: 18 | F34: Tốt | G34: 8 | H34: 0 | I34: 1 | J34: 5 | K34: 2 | L34: 2 | N34: =SUM(D34:E34,G34:M34) -> 36 | O34: Khá
A35: 8 | B35: Nguyễn Thị Thu | C35: Hà | D35: 18.25 | F35: Tốt | G35: 8 | H35: 0 | I35: 3 | J35: 6 | K35: 2 | L35: 2 | M35: 2 | N35: =SUM(D35:E35,G35:M35) -> 41.25 | O35: Tốt
A36: 9 | B36: Kiều Thị Thanh | C36: Hiếu | D36: 16 | F36: Khá | G36: 8 | H36: 0 | I36: 3 | J36: 5 | K36: 2 | L36: 2 | N36: =SUM(D36:E36,G36:M36) -> 36 | O36: Khá
A37: 10 | B37: Trương Thị | C37: Hồng | D37: 18.75 | F37: Tốt | G37: 8 | H37: 0 | I37: 4 | J37: 6 | K37: 2 | L37: 2 | M37: 2 | N37: =SUM(D37:E37,G37:M37) -> 42.75 | O37: Tốt
A38: 11 | B38: Nguyễn Thị Bích | C38: Hồng | D38: 16.5 | F38: Khá | G38: 8 | H38: 0 | I38: 1 | J38: 6 | K38: 2 | L38: 2 | N38: =SUM(D38:E38,G38:M38) -> 35.5 | O38: Khá
A39: 12 | B39: Hà Việt | C39: Hường | D39: 16.63 | F39: Khá | G39: 8 | H39: 0 | I39: 1 | J39: 6 | K39: 2 | L39: 2 | N39: =SUM(D39:E39,G39:M39) -> 35.63 | O39: Khá
A40: 13 | B40: Trần Thị Diễm | C40: Huỳnh | D40: 15.5 | F40: Khá | G40: 8 | H40: 0 | I40: 2 | J40: 6 | K40: 2 | L40: 2 | N40: =SUM(D40:E40,G40:M40) -> 35.5 | O40: Khá
A41: 14 | B41: Hồ Khắc | C41: Khuyên | D41: 16.5 | F41: Khá | G41: 8 | H41: 0 | I41: 0 | J41: 5 | K41: 2 | L41: 2 | N41: =SUM(D41:E41,G41:M41) -> 33.5 | O41: Khá
A42: 15 | B42: Huỳnh Thị Phương | C42: Kiều | D42: 17.5 | F42: Tốt | G42: 8 | H42: 0 | I42: 1 | J42: 6 | K42: 2 | L42: 2 | N42: =SUM(D42:E42,G42:M42) -> 36.5 | O42: Khá
A43: 16 | B43: Võ Ngọc | C43: Lân | D43: 16.5 | F43: Khá | G43: 8 | H43: 0 | I43: 4 | J43: 6 | K43: 2 | L43: 2 | N43: =SUM(D43:E43,G43:M43) -> 38.5 | O43: Khá
A44: 17 | B44: Võ Thị | C44: Linh | D44: 15.5 | F44: Khá | G44: 8 | H44: 0 | I44: 1 | J44: 5 | K44: 2 | L44: 2 | N44: =SUM(D44:E44,G44:M44) -> 33.5 | O44: Khá
A45: 18 | B45: Bùi Văn | C45: Mạnh | D45: 16.25 | F45: Khá | G45: 8 | H45: 0 | I45: 4 | J45: 6 | K45: 2 | L45: 2 | N45: =SUM(D45:E45,G45:M45) -> 38.25 | O45: Khá
A46: 19 | B46: Lê Thị | C46: Mùi | D46: 18.5 | F46: Tốt | G46: 8 | H46: 0 | I46: 4 | J46: 6 | K46: 2 | L46: 2 | N46: =SUM(D46:E46,G46:M46) -> 40.5 | O46: Tốt
A47: 20 | B47: Trần Huỳnh Tuyết | C47: Như | D47: 11.71 | F47: Trung bình | G47: 7 | H47: 0 | I47: 1 | J47: 4 | K47: 0 | L47: 2 | N47: =SUM(D47:E47,G47:M47) -> 25.71 | O47: Khá
A48: 21 | B48: Bùi Đức | C48: Phước | D48: 17.45 | F48: Tốt | G48: 8 | H48: 0 | I48: 4 | J48: 6 | K48: 2 | L48: 2 | N48: =SUM(D48:E48,G48:M48) -> 39.45 | O48: Khá
A49: 22 | B49: Nguyễn Văn | C49: Thắng | D49: 16.75 | F49: Khá | G49: 8 | H49: 0 | I49: 4 | J49: 6 | K49: 2 | L49: 2 | N49: =SUM(D49:E49,G49:M49) -> 38.75 | O49: Khá
... A57: 30 | B57: Bùi Thị Ngọc | C57: Tuyền | D57: 18.5 | F57: Tốt | G57: 8 | H57: 0 | I57: 2 | J57: 6 | K57: 2 | L57: 2 | N57: =SUM(D57:E57,G57:M57) -> 38.5 | O57: Khá
A58: * Yêu cầu: Bản này lập thành 2 bản, khoa lưu 1 bản cùng các phiếu dự giờ, kiểm tra toàn diện GV, gởi phòng TS-ĐT-GTVL bản chính.
N59: TRƯỞNG KHOA
N65: Trần Kim Thu Liễu

Sheet HK2
A1: ỦY BAN NHÂN DÂN | K1: CỘNG HÒA XÃ HỘI CHỦ NGHĨA VIỆT NAM
A2: TRƯỜNG CAO ĐẲNG LÝ TỰ TRỌNG | K2: Độc lập - Tự do - Hạnh phúc
A3: THÀNH PHỐ HỒ CHÍ MINH
K4: TP. Hồ Chí Minh, ngày 30 tháng 7 năm 2019
A5: BẢN BÁO CÁO KẾT QUẢ KIỂM TRA TOÀN DIỆN GIÁO VIÊN
A7: HỌC KỲ : II - NĂM HỌC: 2018 - 2019
A8: KHOA HỌC CƠ BẢN
A10: TT | B10: HỌ VÀ TÊN | D10: DỰ GIỜ | G10: ĐIỂM MỤC II | J10: ĐIỂM MỤC III | M10: Điểm kiêm nhiệm (không kiêm nhiệm thì không tính) | N10: TỔNG CỘNG | O10: XẾP LOẠI TOÀN DIỆN | P10: GHI CHÚ
D11: Điểm trung bình (theo phiếu dự giờ) | E11: Điểm bảo lưu năm học theo qui định (nếu có) | F11: Xếp loại dự giờ | G11: a | H11: b | I11: c | J11: a | K11: b | L11: c
A12: GIÁO VIÊN CƠ HỮU
A13: 1 | B13: Nguyễn Thị Thu | C13: Hà | D13: 18.25 | F13: =IF(D13>=17,"Tốt","Khá") -> Tốt | G13: 8 | H13: 0 | I13: 1 | J13: 6 | K13: 2 | L13: 2 | M13: 2 | N13: =SUM(D13:E13,G13:M13) -> 39.25 | O13: =IF(N13>=40,"Tốt","Khá") -> Khá
A14: 2 | B14: Nguyễn Văn | C14: Hậu | D14: 16.875 | F14: =IF(D14>=17,"Tốt","Khá") -> Khá | G14: 8 | H14: 0 | I14: 4 | J14: 6 | K14: 2 | L14: 2 | M14: 2 | N14: =SUM(D14:E14,G14:M14) -> 40.875 | O14: =IF(N14>=40,"Tốt","Khá") -> Tốt
A15: 3 | B15: Giang Phi | C15: Hùng | D15: 18.5 | F15: =IF(D15>=17,"Tốt","Khá") -> Tốt | G15: 8 | H15: 0 | I15: 4 | J15: 6 | K15: 2 | L15: 2 | M15: 2 | N15: =SUM(D15:E15,G15:M15) -> 42.5 | O15: =IF(N15>=40,"Tốt","Khá") -> Tốt
A16: 4 | B16: Dương Đức | C16: Kiên | D16: 17 | F16: =IF(D16>=17,"Tốt","Khá") -> Tốt | G16: 8 | H16: 0 | I16: 0 | J16: 6 | K16: 2 | L16: 2 | M16: 2 | N16: =SUM(D16:E16,G16:M16) -> 37 | O16: =IF(N16>=40,"Tốt","Khá") -> Khá
A17: 5 | B17: Trần Kim Thu | C17: Liễu | D17: 18.25 | F17: =IF(D17>=17,"Tốt","Khá") -> Tốt | G17: 8 | H17: 0 | I17: 4 | J17: 6 | K17: 2 | L17: 2 | M17: 2 | N17: =SUM(D17:E17,G17:M17) -> 42.25 | O17: =IF(N17>=40,"Tốt","Khá") -> Tốt
A18: 6 | B18: Hà Như | C18: Mai | D18: 16.75 | F18: =IF(D18>=17,"Tốt","Khá") -> Khá | G18: 8 | H18: 0 | I18: 5 | J18: 6 | K18: 2 | L18: 2 | M18: 2 | N18: =SUM(D18:E18,G18:M18) -> 41.75 | O18: =IF(N18>=40,"Tốt","Khá") -> Tốt
A19: 7 | B19: Cao Thị | C19: Nga | D19: 17.25 | F19: =IF(D19>=17,"Tốt","Khá") -> Tốt | G19: 8 | H19: 0 | I19: 0 | J19: 6 | K19: 2 | L19: 2 | M19: 2 | N19: =SUM(D19:E19,G19:M19) -> 37.25 | O19: =IF(N19>=40,"Tốt","Khá") -> Khá
A20: 8 | B20: Nguyễn Thị Huyền | C20: Nga | D20: 18.75 | F20: =IF(D20>=17,"Tốt","Khá") -> Tốt | G20: 8 | H20: 0 | I20: 1 | J20: 6 | K20: 2 | L20: 2 | M20: 2 | N20: =SUM(D20:E20,G20:M20) -> 39.75 | O20: =IF(N20>=40,"Tốt","Khá") -> Khá
A21: 9 | B21: Nguyễn Mạnh | C21: Phương | D21: 18.25 | F21: =IF(D21>=17,"Tốt","Khá") -> Tốt | G21: 8 | H21: 0 | I21: 4 | J21: 6 | K21: 2 | L21: 2 | M21: 2 | N21: =SUM(D21:E21,G21:M21) -> 42.25 | O21: =IF(N21>=40,"Tốt","Khá") -> Tốt
A22: 10 | B22: Nguyễn Thị Thu | C22: Tâm | D22: 17.9375 | F22: =IF(D22>=17,"Tốt","Khá") -> Tốt | G22: 8 | H22: 0 | I22: 4 | J22: 6 | K22: 2 | L22: 2 | M22: 2 | N22: =SUM(D22:E22,G22:M22) -> 41.9375 | O22: =IF(N22>=40,"Tốt","Khá") -> Tốt
A23: 11 | B23: Nguyễn Đức | C23: Thắng | D23: 18.5 | F23: =IF(D23>=17,"Tốt","Khá") -> Tốt | G23: 8 | H23: 0 | I23: 4 | J23: 6 | K23: 2 | L23: 2 | N23: =SUM(D23:E23,G23:M23) -> 40.5 | O23: =IF(N23>=40,"Tốt","Khá") -> Tốt
A24: 12 | B24: Lê Nguyễn Mỹ | C24: Trâm | D24: 18.4 | F24: =IF(D24>=17,"Tốt","Khá") -> Tốt | G24: 8 | I24: 4 | J24: 6 | K24: 2 | L24: 2 | M24: 2 | N24: =SUM(D24:E24,G24:M24) -> 42.4 | O24: =IF(N24>=40,"Tốt","Khá") -> Tốt
A25: 13 | B25: Nguyễn Thị Bảo | C25: Trân | D25: 18.5 | F25: =IF(D25>=17,"Tốt","Khá") -> Tốt | G25: 8 | I25: 3 | J25: 6 | K25: 1 | L25: 2 | M25: 2 | N25: =SUM(D25:E25,G25:M25) -> 40.5 | O25: =IF(N25>=40,"Tốt","Khá") -> Tốt
A26: 14 | B26: Nguyễn Thị Thanh | C26: Tú | D26: 18.4 | F26: =IF(D26>=17,"Tốt","Khá") -> Tốt | G26: 8 | I26: 3 | J26: 6 | K26: 2 | L26: 2 | M26: 2 | N26: =SUM(D26:E26,G26:M26) -> 41.4 | O26: =IF(N26>=40,"Tốt","Khá") -> Tốt
A27: 15 | B27: Trần Thị Ánh | C27: Tuyết | D27: 17.1875 | F27: =IF(D27>=17,"Tốt","Khá") -> Tốt | G27: 8 | I27: 3 | J27: 6 | K27: 2 | L27: 2 | M27: 2 | N27: =SUM(D27:E27,G27:M27) -> 40.1875 | O27: =IF(N27>=40,"Tốt","Khá") -> Tốt
A28: 16 | B28: Trịnh Khắc | C28: Vũ | D28: 17.75 | F28: =IF(D28>=17,"Tốt","Khá") -> Tốt | G28: 8 | H28: 1 | I28: 3 | J28: 6 | K28: 2 | L28: 2 | M28: 2 | N28: =SUM(D28:E28,G28:M28) -> 41.75 | O28: =IF(N28>=40,"Tốt","Khá") -> Tốt
A29: GIÁO VIÊN THỈNH GIẢNG
A30: 17 | B30: Huỳnh Thị | C30: Bích | D30: 15.833333 | F30: =IF(D30>=17,"Tốt","Khá") -> Khá | G30: 8 | H30: 0 | I30: 3 | J30: 6 | K30: 2 | L30: 2 | N30: =SUM(D30:E30,G30:M30) -> 36.833333 | O30: =IF(N30>=40,"Tốt","Khá") -> Khá
A31: 18 | B31: Nguyễn Ngọc | C31: Chương | D31: 17 | F31: =IF(D31>=17,"Tốt","Khá") -> Tốt | G31: 8 | H31: 0 | I31: 0 | J31: 6 | L31: 2 | N31: =SUM(D31:E31,G31:M31) -> 33 | O31: =IF(N31>=40,"Tốt","Khá") -> Khá
A32: 19 | B32: Trần Văn | C32: Độ | D32: 16.4 | F32: =IF(D32>=17,"Tốt","Khá") -> Khá | G32: 8 | H32: 0 | I32: 4 | J32: 6 | K32: 2 | L32: 2 | N32: =SUM(D32:E32,G32:M32) -> 38.4 | O32: =IF(N32>=40,"Tốt","Khá") -> Khá
A33: 20 | B33: Võ Văn | C33: Đức | D33: 16.5 | F33: =IF(D33>=17,"Tốt","Khá") -> Khá | G33: 8 | H33: 0 | I33: 4 | J33: 6 | K33: 2 | L33: 2 | N33: =SUM(D33:E33,G33:M33) -> 38.5 | O33: =IF(N33>=40,"Tốt","Khá") -> Khá
A34: 21 | B34: Bạch Văn | C34: Gân | D34: 16.4 | F34: =IF(D34>=17,"Tốt","Khá") -> Khá | G34: 8 | H34: 0 | I34: 3 | J34: 6 | K34: 2 | L34: 2 | N34: =SUM(D34:E34,G34:M34) -> 37.4 | O34: =IF(N34>=40,"Tốt","Khá") -> Khá
A35: 22 | B35: Mai Võ Hoàng | C35: Giang | D35: 15.291667 | F35: =IF(D35>=17,"Tốt","Khá") -> Khá | G35: 8 | H35: 0 | I35: 4 | J35: 6 | K35: 1 | L35: 2 | N35: =SUM(D35:E35,G35:M35) -> 36.291667 | O35: =IF(N35>=40,"Tốt","Khá") -> Khá
A36: 23 | B36: Nguyễn Quỳnh | C36: Giao | D36: 18.25 | F36: =IF(D36>=17,"Tốt","Khá") -> Tốt | G36: 8 | H36: 0 | I36: 0 | J36: 6 | K36: 2 | L36: 2 | N36: =SUM(D36:E36,G36:M36) -> 36.25 | O36: =IF(N36>=40,"Tốt","Khá") -> Khá
A37: 24 | B37: Lương Ngọc | C37: Hoàng | D37: 16.35 | F37: =IF(D37>=17,"Tốt","Khá") -> Khá | G37: 8 | H37: 0 | I37: 3 | J37: 6 | K37: 2 | L37: 2 | N37: =SUM(D37:E37,G37:M37) -> 37.35 | O37: =IF(N37>=40,"Tốt","Khá") -> Khá
A38: 25 | B38: Nguyễn Thị Bích | C38: Hồng | D38: 17.25 | F38: =IF(D38>=17,"Tốt","Khá") -> Tốt | G38: 8 | H38: 0 | I38: 2 | J38: 6 | K38: 1 | L38: 2 | N38: =SUM(D38:E38,G38:M38) -> 36.25 | O38: =IF(N38>=40,"Tốt","Khá") -> Khá
A39: 26 | B39: Trương Thị | C39: Hồng | D39: 18 | F39: =IF(D39>=17,"Tốt","Khá") -> Tốt | G39: 8 | H39: 0 | J39: 6 | K39: 2 | L39: 2 | M39: 2 | N39: =SUM(D39:E39,G39:M39) -> 38 | O39: =IF(N39>=40,"Tốt","Khá") -> Khá
A40: 27 | B40: Nguyễn Quy | C40: Hưng | D40: 17.25 | F40: =IF(D40>=17,"Tốt","Khá") -> Tốt | G40: 8 | H40: 0 | I40: 3 | J40: 6 | K40: 2 | L40: 2 | N40: =SUM(D40:E40,G40:M40) -> 38.25 | O40: =IF(N40>=40,"Tốt","Khá") -> Khá
A41: 28 | B41: Hà Việt | C41: Hường | D41: 16.5 | F41: =IF(D41>=17,"Tốt","Khá") -> Khá | G41: 8 | H41: 0 | J41: 6 | K41: 2 | L41: 2 | N41: =SUM(D41:E41,G41:M41) -> 34.5 | O41: =IF(N41>=40,"Tốt","Khá") -> Khá
A42: 29 | B42: Trần Thị Diễm | C42: Huỳnh | D42: 15.166667 | F42: =IF(D42>=17,"Tốt","Khá") -> Khá | G42: 8 | H42: 0 | I42: 3 | J42: 6 | K42: 1 | L42: 2 | N42: =SUM(D42:E42,G42:M42) -> 35.166667 | O42: =IF(N42>=40,"Tốt","Khá") -> Khá
A43: 30 | B43: Hồ Khắc | C43: Khuyên | D43: 15.666667 | F43: =IF(D43>=17,"Tốt","Khá") -> Khá | G43: 8 | H43: 0 | I43: 1 | J43: 6 | K43: 1 | L43: 2 | N43: =SUM(D43:E43,G43:M43) -> 33.666667 | O43: =IF(N43>=40,"Tốt","Khá") -> Khá
A44: 31 | B44: Võ Ngọc | C44: Lân | D44: 17 | F44: =IF(D44>=17,"Tốt","Khá") -> Tốt | G44: 8 | H44: 0 | I44: 4 | J44: 6 | K44: 2 | L44: 2 | N44: =SUM(D44:E44,G44:M44) -> 39 | O44: =IF(N44>=40,"Tốt","Khá") -> Khá
A45: 32 | B45: K' | C45: Luyên | D45: 15.9 | F45: =IF(D45>=17,"Tốt","Khá") -> Khá | G45: 8 | H45: 0 | I45: 5 | J45: 6 | K45: 2 | L45: 2 | N45: =SUM(D45:E45,G45:M45) -> 38.9 | O45: =IF(N45>=40,"Tốt","Khá") -> Khá
A46: 33 | B46: Lê Thị | C46: Mùi | D46: 18.6 | F46: =IF(D46>=17,"Tốt","Khá") -> Tốt | G46: 8 | H46: 0 | I46: 4 | J46: 6 | K46: 1 | L46: 2 | N46: =SUM(D46:E46,G46:M46) -> 39.6 | O46: =IF(N46>=40,"Tốt","Khá") -> Khá
A47: 34 | B47: Nguyễn Thành | C47: Nam | D47: 17.125 | F47: =IF(D47>=17,"Tốt","Khá") -> Tốt | G47: 8 | H47: 0 | I47: 1 | J47: 5 | K47: 2 | L47: 2 | N47: =SUM(D47:E47,G47:M47) -> 35.125 | O47: =IF(N47>=40,"Tốt","Khá") -> Khá
A48: 35 | B48: Lê Thị Yến | C48: Nhung | D48: 17.833333 | F48: =IF(D48>=17,"Tốt","Khá") -> Tốt | G48: 8 | H48: 0 | J48: 6 | K48: 2 | L48: 2 | M48: 2 | N48: =SUM(D48:E48,G48:M48) -> 37.833333 | O48: =IF(N48>=40,"Tốt","Khá") -> Khá
A49: 36 | B49: Nguyễn Tiến | C49: Sĩ | D49: 16.5 | F49: =IF(D49>=17,"Tốt","Khá") -> Khá | G49: 8 | H49: 0 | I49: 3 | J49: 6 | K49: 2 | L49: 2 | N49: =SUM(D49:E49,G49:M49) -> 37.5 | O49: =IF(N49>=40,"Tốt","Khá") -> Khá
A50: 37 | B50: Đường Thị | C50: Thảo | D50: 16.25 | F50: =IF(D50>=17,"Tốt","Khá") -> Khá | G50: 8 | H50: 0 | I50: 4 | J50: 6 | K50: 2 | L50: 2 | N50: =SUM(D50:E50,G50:M50) -> 38.25 | O50: =IF(N50>=40,"Tốt","Khá") -> Khá
A51: 38 | B51: Trần Quang | C51: Thêu | D51: 17.75 | F51: =IF(D51>=17,"Tốt","Khá") -> Tốt | G51: 8 | H51: 0 | I51: 2 | J51: 6 | K51: 2 | L51: 2 | N51: =SUM(D51:E51,G51:M51) -> 37.75 | O51: =IF(N51>=40,"Tốt","Khá") -> Khá
A52: 39 | B52: Hồ Thị Thanh | C52: Thương | D52: 17.625 | F52: =IF(D52>=17,"Tốt","Khá") -> Tốt | G52: 8 | H52: 0 | I52: 4 | J52: 6 | K52: 1 | L52: 2 | N52: =SUM(D52:E52,G52:M52) -> 38.625 | O52: =IF(N52>=40,"Tốt","Khá") -> Khá
A53: 40 | B53: Phan Thị | C53: Thủy | D53: 19 | F53: =IF(D53>=17,"Tốt","Khá") -> Tốt | G53: 8 | H53: 0 | I53: 1 | J53: 6 | K53: 1 | L53: 2 | N53: =SUM(D53:E53,G53:M53) -> 37 | O53: =IF(N53>=40,"Tốt","Khá") -> Khá
A54: 41 | B54: Phan Thanh | C54: Tuân | D54: 18 | F54: =IF(D54>=17,"Tốt","Khá") -> Tốt | G54: 8 | H54: 0 | I54: 4 | J54: 6 | K54: 1 | L54: 2 | N54: =SUM(D54:E54,G54:M54) -> 39 | O54: =IF(N54>=40,"Tốt","Khá") -> Khá
A55: 42 | B55: Phạm Quang | C55: Tùng | D55: 16.25 | F55: =IF(D55>=17,"Tốt","Khá") -> Khá | G55: 8 | H55: 0 | I55: 3 | J55: 6 | K55: 2 | L55: 2 | N55: =SUM(D55:E55,G55:M55) -> 37.25 | O55: =IF(N55>=40,"Tốt","Khá") -> Khá
A56: 43 | B56: Nguyễn Hoàng | C56: Tùng | D56: 16.625 | F56: =IF(D56>=17,"Tốt","Khá") -> Khá | G56: 8 | H56: 0 | I56: 4 | J56: 6 | K56: 2 | L56: 2 | N56: =SUM(D56:E56,G56:M56) -> 38.625 | O56: =IF(N56>=40,"Tốt","Khá") -> Khá
A57: 44 | B57: Hàm Hữu | C57: Tựu | D57: 16.75 | F57: =IF(D57>=17,"Tốt","Khá") -> Khá | G57: 8 | H57: 0 | I57: 5 | J57: 6 | K57: 2 | L57: 2 | N57: =SUM(D57:E57,G57:M57) -> 39.75 | O57: =IF(N57>=40,"Tốt","Khá") -> Khá
A58: 45 | B58: Bùi Thị Ngọc | C58: Tuyền | D58: 18.25 | F58: =IF(D58>=17,"Tốt","Khá") -> Tốt | G58: 8 | H58: 0 | I58: 2 | J58: 6 | K58: 1 | L58: 2 | N58: =SUM(D58:E58,G58:M58) -> 37.25 | O58: =IF(N58>=40,"Tốt","Khá") -> Khá
A59: 46 | B59: Nguyễn Văn | C59: Úy | D59: 16.5 | F59: =IF(D59>=17,"Tốt","Khá") -> Khá | G59: 8 | H59: 0 | I59: 3 | J59: 6 | K59: 2 | L59: 2 | N59: =SUM(D59:E59,G59:M59) -> 37.5 | O59: =IF(N59>=40,"Tốt","Khá") -> Khá
A60: * Yêu cầu: Bản này lập thành 2 bản, khoa lưu 1 bản cùng các phiếu dự giờ, kiểm tra toàn diện GV, gởi phòng TS-ĐT-GTVL bản chính.
K61: TRƯỞNG KHOA
K67: Trần Kim Thu Liễu

Sheet Sheet1
A1: ỦY BAN NHÂN DÂN | E1: CỘNG HÒA XÃ HỘI CHỦ NGHĨA VIỆT NAM
A2: TRƯỜNG CAO ĐẲNG LÝ TỰ TRỌNG | E2: Độc lập - Tự do - Hạnh phúc
A3: THÀNH PHỐ HỒ CHÍ MINH
A5: BẢNG TÍNH KẾT QUẢ GIẢNG DẠY HỌC KỲ I/2018 - 2019
A6: Họ và tên Giảng viên | C6: Phan Thanh Tuân
A7: Tổ: Ngữ văn | D7: Khoa : Khoa học Cơ bản
A9: TT | B9: LỚP DẠY | C9: MÔN DẠY | D9: SỐ HS ĐẠT TRÊN TB/ SĨ SỐ | E9: TÍNH RA % | F9: GHI CHÚ
A10: 1 | B10: 18T4-ANM1 | C10: Ngữ văn 1 | D10: 35 hs / 40 | E10: =35/40 -> 0.875
A11: 2 | B11: 18T4-LTM1 | C11: Ngữ văn 1 | D11: 36 HS/43 | E11: =36/43 -> 0.8372093
A12: 3 | B12: 18T4-QTM1 | C12: Ngữ văn 1 | D12: 50 HS/62 | E12: =50/62 -> 0.80645161
A13: TỔNG CỘNG | D13: 121 HS / 145 | E13: =121/145 -> 0.83448276
D14: TP. Hồ Chí Minh, ngày ... tháng ... năm 2018
B15: Trưởng khoa | D15: Trưởng bộ môn | E15: Giảng viên

Sheet Sheet2
A1: ỦY BAN NHÂN DÂN | E1: CỘNG HÒA XÃ HỘI CHỦ NGHĨA VIỆT NAM
A2: TRƯỜNG CAO ĐẲNG LÝ TỰ TRỌNG | E2: Độc lập - Tự do - Hạnh phúc
A3: THÀNH PHỐ HỒ CHÍ MINH
A5: BẢNG TÍNH KẾT QUẢ GIẢNG DẠY HỌC KỲ I/2018 - 2019
A6: Họ và tên Giảng viên | C6: Nguyễn Thị Thanh Thảo
A7: Tổ: Ngữ văn | D7: Khoa : Khoa học Cơ bản
A9: TT | B9: LỚP DẠY | C9: MÔN DẠY | D9: SỐ HS ĐẠT TRÊN TB/ SĨ SỐ | E9: TÍNH RA % | F9: GHI CHÚ
A10: 1 | B10: 18T4-NNA1 | C10: Ngữ văn 1 | D10: 18 hs / 26 | E10: =18/26 -> 0.69230769
A11: 2 | B11: 18T4-QTD1 | C11: Ngữ văn 1 | D11: 17 hs / 23 | E11: =17/23 -> 0.73913043
A12: TỔNG CỘNG | D12: 35 hs / 49 | E12: =35/49 -> 0.71428571
D13: TP. Hồ Chí Minh, ngày ... tháng ... năm 2018
B14: Trưởng khoa | D14: Trưởng bộ môn | E14: Giảng viên
E19: Nguyễn Thị Thanh Thảo

Sheet Sheet3
A1: ỦY BAN NHÂN DÂN | K1: CỘNG HÒA XÃ HỘI CHỦ NGHĨA VIỆT NAM
A2: TRƯỜNG CAO ĐẲNG LÝ TỰ TRỌNG | K2: Độc lập - Tự do - Hạnh phúc
A3: THÀNH PHỐ HỒ CHÍ MINH
K4: TP. Hồ Chí Minh, ngày 26 tháng 3 năm 2019
A5: BẢN BÁO CÁO KẾT QUẢ KIỂM TRA TOÀN DIỆN GIÁO VIÊN
A7: HỌC KỲ : I - NĂM HỌC: 2018 - 2019
A8: KHOA HỌC CƠ BẢN | Q8: hk1 | R8: hk1
A9: TT | B9: HỌ VÀ TÊN | D9: DỰ GIỜ | G9: ĐIỂM MỤC II | J9: ĐIỂM MỤC III | M9: Điểm kiêm nhiệm (không kiêm nhiệm thì không tính) | N9: TỔNG CỘNG | O9: XẾP LOẠI TOÀN DIỆN | P9: GHI CHÚ
D10: Điểm trung bình (theo phiếu dự giờ) | E10: Điểm bảo lưu năm học theo qui định (nếu có) | F10: Xếp loại dự giờ | G10: a | H10: b | I10: c | J10: a | K10: b | L10: c
A11: GIÁO VIÊN CƠ HỮU
A12: 1 | B12: Lê Văn | C12: Bình | D12: 17.5 | F12: Tốt | G12: 8 | H12: 0 | I12: 1 | J12: 6 | K12: 2 | L12: 2 | M12: 2 | N12: =SUM(D12:E12,G12:M12) -> 38.5 | O12: Khá | Q12: =O12 -> Khá
A13: 2 | B13: Ngô Thanh | C13: Điền | D13: 18.25 | F13: Tốt | G13: 8 | H13: 0 | I13: 4 | J13: 6 | K13: 2 | L13: 2 | M13: 2 | N13: =SUM(D13:E13,G13:M13) -> 42.25 | O13: Tốt | R13: =O13 -> Tốt
A14: 3 | B14: Nguyễn Văn | C14: Đông | D14: 17.75 | F14: Tốt | G14: 8 | H14: 0 | I14: 0 | J14: 6 | K14: 2 | L14: 2 | M14: 2 | N14: =SUM(D14:E14,G14:M14) -> 37.75 | O14: Khá | Q14: =O14 -> Khá
A15: 4 | B15: Nguyễn Phương | C15: Hà | D15: 18.5 | F15: Tốt | G15: 8 | H15: 0 | I15: 1 | J15: 6 | K15: 2 | L15: 2 | M15: 2 | N15: =SUM(D15:E15,G15:M15) -> 39.5 | O15: Khá | Q15: =O15 -> Khá
A16: 5 | B16: Phạm Thị Thu | C16: Hiền | D16: 18.25 | F16: Tốt | G16: 8 | H16: 0 | I16: 5 | J16: 6 | K16: 2 | L16: 2 | M16: 2 | N16: =SUM(D16:E16,G16:M16) -> 43.25 | O16: Tốt | R16: =O16 -> Tốt
A17: 6 | B17: Lê Thái | C17: Hùng | D17: 18 | F17: Tốt | G17: 8 | H17: 0 | I17: 4 | J17: 6 | K17: 2 | L17: 2 | M17: 2 | N17: =SUM(D17:E17,G17:M17) -> 42 | O17: Tốt | R17: =O17 -> Tốt
A18: 7 | B18: Võ Thị Hồng | C18: Lan | D18: 18.17 | F18: Tốt | G18: 8 | H18: 0 | I18: 4 | J18: 6 | K18: 1 | L18: 2 | M18: 2 | N18: =SUM(D18:E18,G18:M18) -> 41.17 | O18: Tốt | R18: =O18 -> Tốt
A19: 8 | B19: Phạm Thị Thu | C19: Nga | D19: 17.83 | F19: Tốt | G19: 8 | H19: 0 | I19: 0 | J19: 6 | K19: 2 | L19: 2 | M19: 2 | N19: =SUM(D19:E19,G19:M19) -> 37.83 | O19: Khá | Q19: =O19 -> Khá
A20: 9 | B20: Nguyễn Phú | C20: Tân | D20: 17.75 | F20: Tốt | G20: 8 | H20: 0 | I20: 5 | J20: 6 | K20: 2 | L20: 2 | N20: =SUM(D20:E20,G20:M20) -> 40.75 | O20: Tốt | R20: =O20 -> Tốt
A21: 10 | B21: Nguyễn Thị Cẩm | C21: Thạch | D21: 16.83 | F21: Khá | G21: 8 | H21: 0 | I21: 0 | J21: 6 | K21: 2 | L21: 2 | M21: 2 | N21: =SUM(D21:E21,G21:M21) -> 36.83 | O21: Khá | Q21: =O21 -> Khá
A22: 11 | B22: Vương Thanh | C22: Thuỷ | D22: 19.08 | F22: Tốt | G22: 8 | H22: 0 | I22: 5 | J22: 6 | K22: 2 | L22: 2 | M22: 2 | N22: =SUM(D22:E22,G22:M22) -> 44.08 | O22: Tốt | R22: =O22 -> Tốt
A23: 12 | B23: Nguyễn Thị | C23: Thủy | E23: 17.67 | F23: Tốt | G23: 8 | H23: 0 | I23: 4 | J23: 6 | K23: 2 | L23: 2 | M23: 2 | N23: =SUM(D23:E23,G23:M23) -> 41.67 | O23: Tốt | R23: =O23 -> Tốt
A24: 13 | B24: Trần Thanh | C24: Trúc | D24: 19 | F24: Tốt | G24: 8 | H24: 0 | I24: 3 | J24: 6 | K24: 2 | L24: 2 | M24: 2 | N24: =SUM(D24:E24,G24:M24) -> 42 | O24: Tốt | R24: =O24 -> Tốt
A25: 14 | B25: Đặng Thị Kiến | C25: Trúc | D25: 18.45 | F25: Tốt | G25: 8 | H25: 0 | I25: 1 | J25: 6 | K25: 2 | L25: 2 | M25: 2 | N25: =SUM(D25:E25,G25:M25) -> 39.45 | O25: Khá | Q25: =O25 -> Khá
A26: 15 | B26: Nguyễn Thanh | C26: Tú | D26: 17.5 | F26: Tốt | G26: 8 | H26: 0 | I26: 1 | J26: 6 | K26: 2 | L26: 2 | M26: 2 | N26: =SUM(D26:E26,G26:M26) -> 38.5 | O26: Khá | Q26: =O26 -> Khá
A27: GIÁO VIÊN THỈNH GIẢNG
A28: 1 | B28: Nguyễn Ngọc | C28: Chương | D28: 16.67 | F28: Khá | G28: 8 | H28: 0 | I28: 5 | J28: 6 | K28: 2 | L28: 2 | N28: =SUM(D28:E28,G28:M28) -> 39.67 | O28: Khá | Q28: =O28 -> Khá
A29: 2 | B29: Nguyễn Phú | C29: Cường | D29: 16 | F29: Khá | G29: 8 | H29: 0 | I29: 5 | J29: 6 | K29: 2 | L29: 2 | N29: =SUM(D29:E29,G29:M29) -> 39 | O29: Khá | Q29: =O29 -> Khá
A30: 3 | B30: Nguyễn Công | C30: Cường | D30: 16.5 | F30: Khá | G30: 8 | H30: 0 | I30: 4 | J30: 6 | K30: 2 | L30: 2 | N30: =SUM(D30:E30,G30:M30) -> 38.5 | O30: Khá | Q30: =O30 -> Khá
A31: 4 | B31: Võ Văn | C31: Đức | D31: 16.75 | F31: Khá | G31: 8 | H31: 0 | I31: 4 | J31: 6 | K31: 2 | L31: 2 | N31: =SUM(D31:E31,G31:M31) -> 38.75 | O31: Khá | Q31: =O31 -> Khá
A32: 5 | B32: Bạch Văn | C32: Gân | D32: 16.75 | F32: Khá | G32: 8 | H32: 0 | I32: 3 | J32: 6 | K32: 2 | L32: 2 | N32: =SUM(D32:E32,G32:M32) -> 37.75 | O32: Khá | Q32: =O32 -> Khá
A33: 6 | B33: Mai Võ Hoàng | C33: Giang | D33: 16 | F33: Khá | G33: 8 | H33: 0 | I33: 0 | J33: 5 | K33: 2 | L33: 2 | N33: =SUM(D33:E33,G33:M33) -> 33 | O33: Khá | Q33: =O33 -> Khá
A34: 7 | B34: Nguyễn Quỳnh | C34: Giao | D34: 18 | F34: Tốt | G34: 8 | H34: 0 | I34: 1 | J34: 5 | K34: 2 | L34: 2 | N34: =SUM(D34:E34,G34:M34) -> 36 | O34: Khá | Q34: =O34 -> Khá
A35: 8 | B35: Nguyễn Thị Thu | C35: Hà | D35: 18.25 | F35: Tốt | G35: 8 | H35: 0 | I35: 3 | J35: 6 | K35: 2 | L35: 2 | M35: 2 | N35: =SUM(D35:E35,G35:M35) -> 41.25 | O35: Tốt | R35: =O35 -> Tốt
A36: 9 | B36: Kiều Thị Thanh | C36: Hiếu | D36: 16 | F36: Khá | G36: 8 | H36: 0 | I36: 3 | J36: 5 | K36: 2 | L36: 2 | N36: =SUM(D36:E36,G36:M36) -> 36 | O36: Khá | Q36: =O36 -> Khá
A37: 10 | B37: Trương Thị | C37: Hồng | D37: 18.75 | F37: Tốt | G37: 8 | H37: 0 | I37: 4 | J37: 6 | K37: 2 | L37: 2 | M37: 2 | N37: =SUM(D37:E37,G37:M37) -> 42.75 | O37: Tốt | R37: =O37 -> Tốt
A38: 11 | B38: Nguyễn Thị Bích | C38: Hồng | D38: 16.5 | F38: Khá | G38: 8 | H38: 0 | I38: 1 | J38: 6 | K38: 2 | L38: 2 | N38: =SUM(D38:E38,G38:M38) -> 35.5 | O38: Khá | Q38: =O38 -> Khá
A39: 12 | B39: Hà Việt | C39: Hường | D39: 16.63 | F39: Khá | G39: 8 | H39: 0 | I39: 1 | J39: 6 | K39: 2 | L39: 2 | N39: =SUM(D39:E39,G39:M39) -> 35.63 | O39: Khá | Q39: =O39 -> Khá
A40: 13 | B40: Trần Thị Diễm | C40: Huỳnh | D40: 15.5 | F40: Khá | G40: 8 | H40: 0 | I40: 2 | J40: 6 | K40: 2 | L40: 2 | N40: =SUM(D40:E40,G40:M40) -> 35.5 | O40: Khá | Q40: =O40 -> Khá
A41: 14 | B41: Hồ Khắc | C41: Khuyên | D41: 16.5 | F41: Khá | G41: 8 | H41: 0 | I41: 0 | J41: 5 | K41: 2 | L41: 2 | N41: =SUM(D41:E41,G41:M41) -> 33.5 | O41: Khá | Q41: =O41 -> Khá
A42: 15 | B42: Huỳnh Thị Phương | C42: Kiều | D42: 17.5 | F42: Tốt | G42: 8 | H42: 0 | I42: 1 | J42: 6 | K42: 2 | L42: 2 | N42: =SUM(D42:E42,G42:M42) -> 36.5 | O42: Khá | Q42: =O42 -> Khá
A43: 16 | B43: Võ Ngọc | C43: Lân | D43: 16.5 | F43: Khá | G43: 8 | H43: 0 | I43: 4 | J43: 6 | K43: 2 | L43: 2 | N43: =SUM(D43:E43,G43:M43) -> 38.5 | O43: Khá | Q43: =O43 -> Khá
A44: 17 | B44: Võ Thị | C44: Linh | D44: 15.5 | F44: Khá | G44: 8 | H44: 0 | I44: 1 | J44: 5 | K44: 2 | L44: 2 | N44: =SUM(D44:E44,G44:M44) -> 33.5 | O44: Khá | Q44: =O44 -> Khá
A45: 18 | B45: Bùi Văn | C45: Mạnh | D45: 16.25 | F45: Khá | G45: 8 | H45: 0 | I45: 4 | J45: 6 | K45: 2 | L45: 2 | N45: =SUM(D45:E45,G45:M45) -> 38.25 | O45: Khá | Q45: =O45 -> Khá
A46: 19 | B46: Lê Thị | C46: Mùi | D46: 18.5 | F46: Tốt | G46: 8 | H46: 0 | I46: 4 | J46: 6 | K46: 2 | L46: 2 | N46: =SUM(D46:E46,G46:M46) -> 40.5 | O46: Tốt | R46: =O46 -> Tốt
A47: 20 | B47: Trần Huỳnh Tuyết | C47: Như | D47: 11.71 | F47: Trung bình | G47: 7 | H47: 0 | I47: 1 | J47: 4 | K47: 0 | L47: 2 | N47: =SUM(D47:E47,G47:M47) -> 25.71 | O47: Khá | Q47: =O47 -> Khá
A48: 21 | B48: Bùi Đức | C48: Phước | D48: 17.45 | F48: Tốt | G48: 8 | H48: 0 | I48: 4 | J48: 6 | K48: 2 | L48: 2 | N48: =SUM(D48:E48,G48:M48) -> 39.45 | O48: Khá | Q48: =O48 -> Khá
A49: 22 | B49: Nguyễn Văn | C49: Thắng | D49: 16.75 | F49: Khá | G49: 8 | H49: 0 | I49: 4 | J49: 6 | K49: 2 | L49: 2 | N49: =SUM(D49:E49,G49:M49) -> 38.75 | O49: Khá | Q49: =O49 -> Khá
A50: 23 | B50: Nguyễn Thị Thanh | C50: Thảo | D50: 19 | F50: Tốt | G50: 8 | H50: 0 | I50: 3 | J50: 6 | K50: 2 | L50: 2 | N50: =SUM(D50:E50,G50:M50) -> 40 | O50: Tốt | R50: =O50 -> Tốt
A51: 24 | B51: Hồ Thị Thanh | C51: Thương | D51: 17.63 | F51: Tốt | G51: 8 | H51: 1 | I51: 3 | J51: 6 | K51: 2 | L51: 2 | N51: =SUM(D51:E51,G51:M51) -> 39.63 | O51: Khá | Q51: =O51 -> Khá
A52: 25 | B52: Phan Cảnh | C52: Tứ | D52: 16.25 | F52: Khá | G52: 8 | H52: 0 | I52: 4 | J52: 6 | K52: 2 | L52: 2 | N52: =SUM(D52:E52,G52:M52) -> 38.25 | O52: Khá | Q52: =O52 -> Khá
A53: 26 | B53: Phan Thanh | C53: Tuân | D53: 18.75 | F53: Tốt | G53: 8 | H53: 0 | I53: 4 | J53: 6 | K53: 2 | L53: 2 | N53: =SUM(D53:E53,G53:M53) -> 40.75 | O53: Tốt | R53: =O53 -> Tốt
A54: 27 | B54: Nguyễn Hoàng | C54: Tùng | D54: 16.5 | F54: Khá | G54: 8 | H54: 0 | I54: 4 | J54: 6 | K54: 2 | L54: 2 | N54: =SUM(D54:E54,G54:M54) -> 38.5 | O54: Khá | Q54: =O54 -> Khá
A55: 28 | B55: Phạm Quang | C55: Tùng | D55: 16.75 | F55: Khá | G55: 8 | H55: 0 | I55: 4 | J55: 6 | K55: 2 | L55: 2 | N55: =SUM(D55:E55,G55:M55) -> 38.75 | O55: Khá | Q55: =O55 -> Khá
A56: 29 | B56: Lý Thục | C56: Trinh | D56: 18 | F56: Tốt | G56: 8 | H56: 0 | I56: 3 | J56: 6 | K56: 2 | L56: 2 | N56: =SUM(D56:E56,G56:M56) -> 39 | O56: Khá | Q56: =O56 -> Khá
A57: 30 | B57: Bùi Thị Ngọc | C57: Tuyền | D57: 18.5 | F57: Tốt | G57: 8 | H57: 0 | I57: 2 | J57: 6 | K57: 2 | L57: 2 | N57: =SUM(D57:E57,G57:M57) -> 38.5 | O57: Khá | Q57: =O57 -> Khá
A58: * Yêu cầu: Bản này lập thành 2 bản, khoa lưu 1 bản cùng các phiếu dự giờ, kiểm tra toàn diện GV, gởi phòng TS-ĐT-GTVL bản chính. | Q58: =COUNTA(Q12:Q57) -> 32 | R58: =COUNTA(R12:R57) -> 13 | S58: =SUM(Q58:R58) -> 45
Q59: =Q58/S58 -> 0.71111111
N60: TRƯỞNG KHOA | Q60: hk2 | R60: hk2
Q61: ='HK2'!O13 -> Khá
R62: ='HK2'!O14 -> Tốt
R63: ='HK2'!O15 -> Tốt
Q64: ='HK2'!O16 -> Khá
R65: ='HK2'!O17 -> Tốt
N66: Trần Kim Thu Liễu | R66: ='HK2'!O18 -> Tốt
Q67: ='HK2'!O19 -> Khá
Q68: ='HK2'!O20 -> Khá
R69: ='HK2'!O21 -> Tốt
R70: ='HK2'!O22 -> Tốt
R71: ='HK2'!O23 -> Tốt
R72: ='HK2'!O24 -> Tốt
R73: ='HK2'!O25 -> Tốt
R74: ='HK2'!O26 -> Tốt
R75: ='HK2'!O27 -> Tốt
R76: ='HK2'!O28 -> Tốt
Q78: ='HK2'!O30 -> Khá
Q79: ='HK2'!O31 -> Khá
Q80: ='HK2'!O32 -> Khá
Q81: ='HK2'!O33 -> Khá
Q82: ='HK2'!O34 -> Khá
Q83: ='HK2'!O35 -> Khá
Q84: ='HK2'!O36 -> Khá
Q85: ='HK2'!O37 -> Khá
Q86: ='HK2'!O38 -> Khá
Q87: ='HK2'!O39 -> Khá
Q88: ='HK2'!O40 -> Khá
Q89: ='HK2'!O41 -> Khá
... Q107: ='HK2'!O59 -> Khá
Q108: =COUNTA(Q10:Q107) -> 69 | R108: =COUNTA(R10:R107) -> 27 | S108: =SUM(Q108:R108) -> 96
Q109: =Q108/S108 -> 0.71875 | R109: =R108/S108 -> 0.28125
Q110: 36 | R110: 14 | S110: =SUM(Q110:R110) -> 50
Q111: =Q110/S110 -> 0.72 | R111: =R110/S110 -> 0.28
